BEGIN:VCALENDAR
VERSION:2.0
PRODID:-//eventon.com NONSGML v1.0//EN
CALSCALE:GREGORIAN
METHOD:PUBLISH
BEGIN:VEVENT
UID:69eaf9e4cc2db
DTSTAMP:20260424T050436Z
DTSTART:20201224T000000Z
DTEND:20201224T010000Z
LOCATION:https://zoom.us/j/98648778792
SUMMARY:Rise Game Night
DESCRIPTION:Join the GAME NIGHT fun! This Wednesday\,  Dec. 23rd at 7:00pm.
  Open to teens only! Text TRIVIA to 69922\nhttps://zoom.us/j/98648778792
URL:https://zoom.us/j/98648778792
END:VEVENT
END:VCALENDAR