BEGIN:VCALENDAR
VERSION:2.0
PRODID:-//eventon.com NONSGML v1.0//EN
CALSCALE:GREGORIAN
METHOD:PUBLISH
BEGIN:VEVENT
UID:69ea986b46820
DTSTAMP:20260423T220843Z
DTSTART:20201212T140000Z
DTEND:20201212T170000Z
LOCATION:
SUMMARY:W.I.N.G.S - Posh & Pajamas Holiday Bazaar
DESCRIPTION:Ladies\,  Join us for the Posh &amp; Pajamas holiday bazaar! We
  will feature DIY demonstrations\,  virtual shopping\,  trivia games\,  giv
 eaways\,  and more! When: December 12\,  2020Time: 9:00 am &#8211; 12:00 pm
  Click Here to Register.\nhttps://eaglesnestchurch.org/events/w-i-n-g-s-pos
 h-pajamas-holiday-bazaar/
URL:https://eaglesnestchurch.org/events/w-i-n-g-s-posh-pajamas-holiday-bazaar/
END:VEVENT
END:VCALENDAR