BEGIN:VCALENDAR
VERSION:2.0
PRODID:-//eventon.com NONSGML v1.0//EN
CALSCALE:GREGORIAN
METHOD:PUBLISH
BEGIN:VEVENT
UID:69e4de4fd79b3
DTSTAMP:20260419T135319Z
DTSTART:20250215T003000Z
DTEND:20250215T030000Z
LOCATION:https://eaglesnestchurch.org/loveaffair-live
SUMMARY:Love Affair
DESCRIPTION:[vc_row type=&#8221;in_container&#8221; full_screen_row_positio
 n=&#8221;middle&#8221; scene_position=&#8221;center&#8221; text_color=&#822
 1;dark&#8221; text_align=&#8221;left&#8221; overlay_strength=&#8221;0.3&#82
 43; shape_divider_position=&#8221;bottom&#8221; bg_image_animation=&#8221;n
 one&#8221;][vc_column column_padding=&#8221;no-extra-padding&#8221; column_
 padding_position=&#8221;all&#8221; background_color_opacity=&#8221;1&#8243;
  background_hover_color_opacity=&#8221;1&#8243; column_link_target=&#8221;_
 self&#8221; column_shadow=&#8221;none&#8221; column_border_radius=&#8221;no
 ne&#8221; width=&#8221;1/1&#8243; tablet_width_inherit=&#8221;default&#8221
 ; tablet_text_alignment=&#8221;default&#8221; phone_text_alignment=&#8221;d
 efault&#8221; column_border_width=&#8221;none&#8221; column_border_style=&#
 8221;solid&#8221; bg_image_animation=&#8221;none&#8221;][vc_column_text] Ce
 lebrate Love this Valentine’s Day at The Love Affair! Join us for dinner\
 ,  live entertainment\,  and dance the night away at The Country Club of th
 e South![..]\nhttps://eaglesnestchurch.org/events/love-affair/
URL:https://eaglesnestchurch.org/events/love-affair/
END:VEVENT
END:VCALENDAR