BEGIN:VCALENDAR
VERSION:2.0
PRODID:-//eventon.com NONSGML v1.0//EN
CALSCALE:GREGORIAN
METHOD:PUBLISH
BEGIN:VEVENT
UID:69ea5b7f096ca
DTSTAMP:20260423T174847Z
DTSTART:20211110T000000Z
DTEND:20211110T020000Z
LOCATION:
SUMMARY:iLead Masterclass
DESCRIPTION:We are continuing our very own iLEAD Masterclasses. This is an 
 opportunity for those of you who are serious about developing and growing a
 s a leader. Unfortunately this class is SOLD OUT! Email info@eaglesnestchur
 ch.org for any questions you may have.\nhttps://eaglesnestchurch.org/events
 /ilead-masterclass/
URL:https://eaglesnestchurch.org/events/ilead-masterclass/
END:VEVENT
END:VCALENDAR