BEGIN:VCALENDAR
VERSION:2.0
PRODID:-//eventon.com NONSGML v1.0//EN
CALSCALE:GREGORIAN
METHOD:PUBLISH
BEGIN:VEVENT
UID:69ebbb272c475
DTSTAMP:20260424T184911Z
DTSTART:20210801T160000Z
DTEND:20210801T180000Z
LOCATION:
SUMMARY:Education Reception
DESCRIPTION:If you work in education we want to support you as the school y
 ear begins! Join us Sunday\,  August 1st in the living room\,  immediately 
 following the 10:30 service for hors d&#8217;oeuvre\,  to meet other educat
 ors\,  and Pastor Lee and the elders would love to pray for you as you[..]\
 nhttps://eaglesnestchurch.org/events/education-reception/
URL:https://eaglesnestchurch.org/events/education-reception/
END:VEVENT
END:VCALENDAR