BEGIN:VCALENDAR
VERSION:2.0
PRODID:-//eventon.com NONSGML v1.0//EN
CALSCALE:GREGORIAN
METHOD:PUBLISH
BEGIN:VEVENT
UID:69ea519196c9f
DTSTAMP:20260423T170625Z
DTSTART:20210905T123000Z
DTEND:20210913T040000Z
LOCATION:
SUMMARY:Marketing Survey
DESCRIPTION:We want to make Eagles Nest even better! As we refine processes
 \,  create engaging events and environments we want to make sure this is a 
 place that you love to call home and feel proud to bring others too. So we 
 want to know what you think of us (the[..]\nhttps://eaglesnestchurch.org/ev
 ents/marketing-survey/
URL:https://eaglesnestchurch.org/events/marketing-survey/
END:VEVENT
END:VCALENDAR