BEGIN:VCALENDAR
VERSION:2.0
PRODID:-//eventon.com NONSGML v1.0//EN
CALSCALE:GREGORIAN
METHOD:PUBLISH
BEGIN:VEVENT
UID:69e6e552bceb3
DTSTAMP:20260421T024746Z
DTSTART:20220619
DTEND:20220620
LOCATION:
SUMMARY:NO Service | In-person (Online Only)
DESCRIPTION:There will be No In-Person Services today. Feel free to join u
 s for our Juneteenth Celebration at Riverside Park in Roswell. Learn More! 
 We will have an online service for those who can not attend the Juneteenth 
 event.\nhttps://eaglesnestchurch.org/events/no-in-person-service-2/
URL:https://eaglesnestchurch.org/events/no-in-person-service-2/
END:VEVENT
END:VCALENDAR