BEGIN:VCALENDAR
VERSION:2.0
PRODID:-//eventon.com NONSGML v1.0//EN
CALSCALE:GREGORIAN
METHOD:PUBLISH
BEGIN:VEVENT
UID:69e81e5b49424
DTSTAMP:20260422T010323Z
DTSTART:20220807T130000Z
DTEND:20220807T170000Z
LOCATION:Centennial High School 9310 Scott Rd\,  Roswell\,  GA 30076
SUMMARY:Moving to Mornings!
DESCRIPTION:Eagles! We are moving back to Sunday morning services beginning
  August 7th! Services will be held at 9am + 11am at Centennial High School\
 ,  9310 Scott Road\,  Roswell\,  GA 30076. &nbsp;\nhttps://eaglesnestchurch
 .org/events/moving-to-mornings/
URL:https://eaglesnestchurch.org/events/moving-to-mornings/
END:VEVENT
END:VCALENDAR