BEGIN:VCALENDAR
VERSION:2.0
PRODID:-//eventon.com NONSGML v1.0//EN
CALSCALE:GREGORIAN
METHOD:PUBLISH
BEGIN:VEVENT
UID:69e64ad7146c1
DTSTAMP:20260420T154839Z
DTSTART:20230611T130000Z
DTEND:20230611T170000Z
LOCATION:Centennial High School 9310 Scott Rd\,  Roswell\,  GA 30076
SUMMARY:Sunday Services
DESCRIPTION:Join us In-Person for Sunday Service at 9:00am or 11:00am EST S
 ervices will be held at Centennial High School\,  9310 Scott Road\,  Roswel
 l\,  GA 30076. We are also live online at 9am!\nhttps://eaglesnestchurch.or
 g/events/sunday-services/var/event_access
URL:https://eaglesnestchurch.org/events/sunday-services/var/event_access
END:VEVENT
END:VCALENDAR