BEGIN:VCALENDAR
VERSION:2.0
PRODID:-//eventon.com NONSGML v1.0//EN
CALSCALE:GREGORIAN
METHOD:PUBLISH
BEGIN:VEVENT
UID:69e9c957d6847
DTSTAMP:20260423T072511Z
DTSTART:20260517T133000Z
DTEND:20260517T173000Z
LOCATION:Centennial High School 9310 Scott Rd\,  Roswell\,  GA 30076
SUMMARY:Sunday Services
DESCRIPTION:[vc_row type=&#8221;in_container&#8221; full_screen_row_positio
 n=&#8221;middle&#8221; scene_position=&#8221;center&#8221; text_color=&#822
 1;dark&#8221; text_align=&#8221;left&#8221; overlay_strength=&#8221;0.3&#82
 43; shape_divider_position=&#8221;bottom&#8221; bg_image_animation=&#8221;n
 one&#8221;][vc_column column_padding=&#8221;no-extra-padding&#8221; column_
 padding_position=&#8221;all&#8221; background_color_opacity=&#8221;1&#8243;
  background_hover_color_opacity=&#8221;1&#8243; column_link_target=&#8221;_
 self&#8221; column_shadow=&#8221;none&#8221; column_border_radius=&#8221;no
 ne&#8221; width=&#8221;1/1&#8243; tablet_width_inherit=&#8221;default&#8221
 ; tablet_text_alignment=&#8221;default&#8221; phone_text_alignment=&#8221;d
 efault&#8221; column_border_width=&#8221;none&#8221; column_border_style=&#
 8221;solid&#8221; bg_image_animation=&#8221;none&#8221;][vc_column_text]Joi
 n us In-Person for Sunday Service at 9:30am or 11:30am EST Services will be
  held at Centennial High School\,  9310 Scott Road\,  Roswell\,  GA 30076. 
 We are also[..]\nhttps://eaglesnestchurch.org/events/sunday-services-2026-b
 /var/ri-5.l-L1
URL:https://eaglesnestchurch.org/events/sunday-services-2026-b/var/ri-5.l-L1
END:VEVENT
END:VCALENDAR