BEGIN:VCALENDAR
VERSION:2.0
PRODID:-//eventon.com NONSGML v1.0//EN
CALSCALE:GREGORIAN
METHOD:PUBLISH
BEGIN:VEVENT
UID:69e95f89542cd
DTSTAMP:20260422T235345Z
DTSTART:20260426T173000Z
DTEND:20260426T183000Z
LOCATION:Ippolito&#039;s Neighborhood Italian 2270 Holcomb Bridge Rd.
SUMMARY:New Members Orientation
DESCRIPTION:[vc_row type=&#8221;in_container&#8221; full_screen_row_positio
 n=&#8221;middle&#8221; scene_position=&#8221;center&#8221; text_color=&#822
 1;dark&#8221; text_align=&#8221;left&#8221; overlay_strength=&#8221;0.3&#82
 43; shape_divider_position=&#8221;bottom&#8221; bg_image_animation=&#8221;n
 one&#8221;][vc_column centered_text=&#8221;true&#8221; column_padding=&#822
 1;no-extra-padding&#8221; column_padding_position=&#8221;all&#8221; backgro
 und_color_opacity=&#8221;1&#8243; background_hover_color_opacity=&#8221;1&#
 8243; column_link_target=&#8221;_self&#8221; column_shadow=&#8221;none&#822
 1; column_border_radius=&#8221;none&#8221; width=&#8221;1/1&#8243; tablet_w
 idth_inherit=&#8221;default&#8221; tablet_text_alignment=&#8221;default&#82
 21; phone_text_alignment=&#8221;default&#8221; column_border_width=&#8221;n
 one&#8221; column_border_style=&#8221;solid&#8221; bg_image_animation=&#822
 1;none&#8221;][vc_column_text] &nbsp; Welcome to the family! If you&#8217;v
 e recently joined Eagles Nest we offer a New Member Orientation for you and
  your family to learn more about[..]\nhttps://eaglesnestchurch.org/events/n
 ew-members-orientation-may2026/
URL:https://eaglesnestchurch.org/events/new-members-orientation-may2026/
END:VEVENT
END:VCALENDAR